BEGIN:VCALENDAR
VERSION:2.0
PRODID:Events Booking
BEGIN:VEVENT
UID:69eb4cc367cc9
SUMMARY:פגישת מתנדבים
DESCRIPTION:האם את חולמת לקיים תצפית רחוב בעיר 
 מגורייך? האם אתה מעוניין לקדם את האהבה לא
 סטרונומיה בבית הספר של ילדיך? 
 כידוע\, ה
 אגודה הישראלית לאסטרונומיה היא גוף שכל ח
 בריו מתנדבים\, וככל שיותר חברים יתנדבו\, כ
 ך נוכל לקיים פעילויות רבות יותר ומגוונות
  יותר. אנחנו מזמינים אתכם להצטרף למפגש מת
 נדבים ראשון לשנת תשפ\"ב. במפגש נסביר על ער
 וצי הפעילות העיקריים של האגודה\, על צורכי
  האגודה וגם נשמע רעיונות חדשים.
 אתם לא ח
 ייבים להיות בעלי טלסקופים ולא בעלי תואר 
 דוקטור באסטרו-פיזיקה. באגודה הישראלית לא
 סטרונומיה נוכל למצוא חובבים לצד אסטרונו
 מים מקצועיים\, כשהמכנה המשותף הוא אחד - סק
 רנות כלפי כל מה שמעבר לשמיים. 
 המפגש פתו
 ח לכולם - לחברי אגודה רשומים ולכאלה שאינם
  (עדיין).
  
 נתראה במפגש!
  
 קישור לזום ה
 מפגש
DTSTART:20210919T180000Z
DTEND:20210919T193000Z
DTSTAMP:20260424T105811Z
ORGANIZER;CN=האגודה הישראלית לאסטרונומיה:MAILTO:ob
 servations@astronomy.org.il
END:VEVENT
END:VCALENDAR