BEGIN:VCALENDAR
VERSION:2.0
PRODID:Events Booking
BEGIN:VEVENT
UID:69eb2022b13be
SUMMARY:שיעור פרטי על הטלסקופ שלכם - בוטל
DESCRIPTION:
LOCATION:Ha-Meri Street 66\, Givatayim\, Israel
DTSTART:20211120T180000Z
DTEND:20211120T200000Z
DTSTAMP:20211020T013556Z
ORGANIZER;CN=האגודה הישראלית לאסטרונומיה:MAILTO:ob
 servations@astronomy.org.il
GEO:32.070509;34.815134
X-APPLE-STRUCTURED-LOCATION;VALUE=URI;X-ADDRESS=Ha-Meri Street 66\, Givatay
 im\, Israel;X-APPLE-RADIUS=72;X-TITLE=מצפה הכוכבים גבעתיי
 ם:32.070509;34.815134
END:VEVENT
END:VCALENDAR