BEGIN:VCALENDAR
VERSION:2.0
PRODID:Events Booking
BEGIN:VEVENT
UID:69eab02073f5d
SUMMARY:פסטיבל החלל 2022 במצפה הכוכבים גבעתיים
  - מיורי עד בראשית
DESCRIPTION:אירועי \"מיורי לבראשית\" גבעתיים - פ
 עילויות חלל מרתקות לכל המשפחה במצפה הכוכ
 בים גבעתיים בשיתוף עם סוכנות החלל הישראל
 ית במשרד החדשנות\, המדע והטכנולוגיה.מצפה 
 הכוכבים גבעתיים והגן שסביבו יהפכו למתחם 
 הפעלות חווייתי הכולל:הדגמות ? משחקי מחשב 
 ⭐ ניסויים ? הרצאות ✨ סדנאות ? תצפית כוכבי
 ם ותצפית שמש ? חידוניםוהפעלות לתלמידים ו
 לכל המשפחה.הכניסה חינם בהרשמה מראש
  
  
DTSTART:20220512T120000Z
DTEND:20220512T180000Z
DTSTAMP:20220504T111358Z
ORGANIZER;CN=האגודה הישראלית לאסטרונומיה:MAILTO:ob
 servations@astronomy.org.il
END:VEVENT
END:VCALENDAR