BEGIN:VCALENDAR
VERSION:2.0
PRODID:Events Booking
BEGIN:VEVENT
UID:69eb1fcaec271
SUMMARY:תצפיות רחוב ברחבי הארץ 13/11/21 בוטלו
DESCRIPTION:* עדכון - התצפיות בוטלו בכל המוקדים 
 עקב אובך ועננות *
  
 במוצאי שבת 13/11/21 החל 
 מהשעה 19:00 יקיימו מתנדבי האגודה הישראלית 
 לאסטרונומיה תצפיות רחוב לקהל הרחב בו זמנ
 ית במספר מוקדים ברחבי הארץ:
 * נמל תל אביב
 \, ברחבה ליד טוקהאוס
 * הפארק הלאומי רמת ג
 ן\, ליד מפל המים
 * כיכר העצמאות נתניה
 * ר
 חבת הירידים (הקשתות)\, ליד קניון עזריאלי מ
 ודיעין
 * הפארק מאחורי כיכר שלמה נחמיה\, ר
 חוב האייל ירושלים
  
 בתצפיות יראו המתנ
 דבים לקהל את הירח וכוכבי לכת דרך טלסקופי
 ם מתקדמים.
 התצפיות הן בחינם ומיועדות לי
 לדים ולמבוגרים כאחד. 
 ברישום לתצפית יש 
 לבחור את נקודת התצפית ולסמן אם אתם בעלי צ
 יוד אסטרונומי.
 דרושים מתנדבים עם ובלי צ
 יוד אסטרונומי - נא לפנות לאחראי התצפית הר
 לוונטי.
  
 שימו לב: 
 * התצפיות בכפוף למז
 ג האוויר. אנא עקבו אחר העדכונים בעמוד זה 
 גם במהלך יום התצפית.
 * ההשתתפות בתצפיות 
 בהתאם למגבלות הקורונה של משרד הבריאות.
DTSTART:20211113T170000Z
DTEND:20211113T210000Z
DTSTAMP:20260424T074618Z
ORGANIZER;CN=האגודה הישראלית לאסטרונומיה:MAILTO:ob
 servations@astronomy.org.il
END:VEVENT
END:VCALENDAR