BEGIN:VCALENDAR
VERSION:2.0
PRODID:Events Booking
BEGIN:VEVENT
UID:69e6f68c3f028
SUMMARY:תצפית רחוב בפארק הלאומי ברמת גן - אוק
 טובר 2025
DESCRIPTION:תצפית הרחוב החודשית של האגודה הישר
 אלית לאסטרונומיה בפארק הלאומי! 
  
 והפע
 ם\, בנוסף לירח יככב גם כוכב הלכת שבתאי. 
 
  
 הכניסה חופשית! 
DTSTART:20251004T170000Z
DTEND:20251004T190000Z
DTSTAMP:20250921T204735Z
ORGANIZER;CN=האגודה הישראלית לאסטרונומיה:MAILTO:ob
 servations@astronomy.org.il
END:VEVENT
END:VCALENDAR