BEGIN:VCALENDAR
VERSION:2.0
PRODID:Events Booking
BEGIN:VEVENT
UID:69eac5edba206
SUMMARY:מסיבת השיגור לחלל של משימת רקיע - היש
 ראלי השני בחלל
DESCRIPTION:SAVE THE DATE
 האגודה הישראלית לאסטרונו
 מיה ומצפה הכוכבים גבעתיים מזמינים אתכם ל
 מסיבת השיגור של משימת רקיע! 
 הקרנה של הש
 יגור לחלל של משימת AX1 - רקיע עם הישראלי הב
 א בחלל איתן סטיבה!הרצאות: הסיפור של משימת
  רקיעתצפיות שמיים בטלסקופיםהפתעות נוספו
 ת
 8/4/22 17:00 *מצפה הכוכבים גבעתיים | גן העלי
 יה השנייה\, המרי 68\, גבעתייםהכניסה חופשית 
 בהרשמה מראש בלבד!* לתשומת לבכם\, מועד השיג
 ור עשוי להשתנות ממגוון סיבות ואינו תלוי 
 בנו.
LOCATION:Ha-Meri Street 66\, Givatayim\, Israel
DTSTART:20220408T140000Z
DTEND:20220408T163000Z
DTSTAMP:20220313T160208Z
ORGANIZER;CN=האגודה הישראלית לאסטרונומיה:MAILTO:ob
 servations@astronomy.org.il
GEO:32.070509;34.815134
X-APPLE-STRUCTURED-LOCATION;VALUE=URI;X-ADDRESS=Ha-Meri Street 66\, Givatay
 im\, Israel;X-APPLE-RADIUS=72;X-TITLE=מצפה הכוכבים גבעתיי
 ם:32.070509;34.815134
END:VEVENT
END:VCALENDAR