BEGIN:VCALENDAR
VERSION:2.0
PRODID:Events Booking
BEGIN:VEVENT
UID:69e6af58b2b09
SUMMARY:מופע פלנטריום: הענק של מערכת השמש - כו
 כב הלכת צדק
DESCRIPTION:תקציר:
 
 מיצגי הפלנטריום המיוחדים
  של האגודה הישראלית לאסטרונומיה והפלנתנ
 יה חוזרים!
 כוכב הלכת הגדול ביותר של מערכ
 ת השמש מגיע לניגוד\, וזו הזדמנות נהדרת לג
 לות עליו דברים חדשים במיצג הפלנטריום המי
 וחד של האגודה הישראלית לאסטרונומיה והפל
 נתניה! איך אפשר לזהות אותו בשמיים\, ומה נר
 אה אם נצפה בו בטלסקופ? אילו חלליות הגיעו 
 אליו ומה הן גילו? מתי גילו את ירחיו הגדול
 ים וכיצד הם שינו את הדרך שבה אנחנו תופסים
  את היקום כולו? לכל השאלות הללו ועוד נענה 
 במיצג הפלנטריום החד פעמי. 
 לאחר המופע ת
 תקיים תצפית טלסקופים - בכפוף לתנאי מזג הא
 וויר.
 
 המופע מתאים לגילאי 11+.
 
  
 המופ
 ע מועבר ע\"י עמרי כץ ואריאל וסטפריד - חברי 
 האגודה הישראלית לאסטרונומיה.
 
 עלות:
 מ
 חיר המופע - 35 ₪.
 הכניסה לחברי האגודה היש
 ראלית לאסטרונומיה - חינם\, בהרשמה מראש כא
 ן.
 ההרשמה לא מופיעה? התחברו כאן לחשבונכם
  כאן
 לקהל הרחב: רכישת כרטיסים מראש כאן א
 ו בטלפון 09-9597330 (בשעות פעילות פלנתניה).
LOCATION:Sugihara 1\, Netanya\, Israel
DTSTART:20260106T180000Z
DTEND:20260106T190000Z
DTSTAMP:20210930T044140Z
ORGANIZER;CN=האגודה הישראלית לאסטרונומיה:MAILTO:ob
 servations@astronomy.org.il
GEO:32.314277;34.848561
X-APPLE-STRUCTURED-LOCATION;VALUE=URI;X-ADDRESS=Sugihara 1\, Netanya\, Isra
 el;X-APPLE-RADIUS=72;X-TITLE=פלנתניה:32.314277;34.848561
END:VEVENT
END:VCALENDAR