BEGIN:VCALENDAR
VERSION:2.0
PRODID:Events Booking
BEGIN:VEVENT
UID:69e694cf530ae
SUMMARY:מופע פלנטריום: כוכבי לכת מחוץ למערכת 
 השמש
DESCRIPTION:תקציר:
 
 מיצגי הפלנטריום המיוחדים
  של האגודה הישראלית לאסטרונומיה והפלנתנ
 יה חוזרים!
 כוכבי לכת ממערכות שמש רחוקות 
 הם אובייקטים חמקמקים: איך ניתן לראות אוב
 ייקט קטן שאינו מאיר בעצמו וגם נמצא כה קרו
 ב לכוכב בוהק?במופע נכיר את הדרכים בהן נית
 ן לגלות כוכבי לכת חוץ-שמשיים\, הטלסקופים 
 שעסקו בגילוי\, יכולותיהם ומגבלותיהם. נפג
 וש כמה מהעולמות החדשים שגילינו ברחבי גלק
 סיית שביל החלב ונברר האם כדור הארץ שלנו ה
 וא כוכב לכת ייחודי? כיצד נראית מערכת שמש \
 "סטנדרטית\" והאם שלנו כזו?
 לאחר המופע תתק
 יים תצפית טלסקופים - בכפוף לתנאי מזג האוו
 יר.
 
 המופע מתאים לגילאי 11+.
 
  
 המופע מ
 ועבר ע\"י עמרי כץ ואריאל וסטפריד - חברי הא
 גודה הישראלית לאסטרונומיה.
 
 עלות:
 מחי
 ר המופע - 35 ₪.
 הכניסה לחברי האגודה הישרא
 לית לאסטרונומיה - חינם\, בהרשמה מראש כאן.

  ההרשמה לא מופיעה? התחברו כאן לחשבונכם כא
 ן
 לקהל הרחב: רכישת כרטיסים מראש כאן או ב
 טלפון 09-9597330 (בשעות פעילות פלנתניה).
LOCATION:Sugihara 1\, Netanya\, Israel
DTSTART:20260224T180000Z
DTEND:20260224T190000Z
DTSTAMP:20210930T044140Z
ORGANIZER;CN=האגודה הישראלית לאסטרונומיה:MAILTO:ob
 servations@astronomy.org.il
GEO:32.314277;34.848561
X-APPLE-STRUCTURED-LOCATION;VALUE=URI;X-ADDRESS=Sugihara 1\, Netanya\, Isra
 el;X-APPLE-RADIUS=72;X-TITLE=פלנתניה:32.314277;34.848561
END:VEVENT
END:VCALENDAR