BEGIN:VCALENDAR
VERSION:2.0
PRODID:Events Booking
BEGIN:VEVENT
UID:69e979d64d212
SUMMARY:מופע פלנטריום: שבתאי שר הטבעות
DESCRIPTION:תקציר:
 
 שר הטבעות שבתאי הוא כוכב 
 הלכת השני בגודלו\, והתכשיט המרהיב של מערכ
 ת השמש שלנו. עד מתי הוא היה כוכב הלכת הרחו
 ק ביותר שהכרנו? איך גילינו את הטבעות שלו? 
 ממה הן עשויות ומתי הן ייעלמו?
 הצטרפו אלי
 נו למופע פלנטריום על שבתאי המדהים בזמן ש
 הוא מככב בשמי הקיץ. במופע נלמד על כוכב הל
 כת\, נבקר בירחים המרתקים שלו ונקנח בתצפית
  על שבתאי - בכפוף לתנאי מזג האוויר.
 
 
 המ
 ופע מתאים לגילאי 11 ומעלה.
 
 
  
 המופע מו
 עבר ע\"י נדב רוטנברג - יו\"ר האגודה הישראלי
 ת לאסטרונומיה.
 
 עלות:
 מחיר המופע - 35 ₪\,
  ברכישה מוקדמת - 25 ₪.
 הכניסה לחברי האגוד
 ה הישראלית לאסטרונומיה: חינם\, בהרשמה מר
 אש כאן.
 ההרשמה לא מופיעה? התחברו כאן לחש
 בונכם כאן
 לקהל הרחב: רכישת כרטיסים מראש 
 באתר הפלנתניה או בטלפון 09-9597330 (בשעות פעי
 לות פלנתניה).
DTSTART:20230829T170000Z
DTEND:20230829T180000Z
DTSTAMP:20210930T044140Z
ORGANIZER;CN=האגודה הישראלית לאסטרונומיה:MAILTO:ob
 servations@astronomy.org.il
END:VEVENT
END:VCALENDAR