BEGIN:VCALENDAR
VERSION:2.0
PRODID:Events Booking
BEGIN:VEVENT
UID:69ea6415d3645
SUMMARY:מופע פלנטריום: ליקויי חמה
DESCRIPTION:תקציר:
 
 ביום שלישי\, ה-25 לאוקטובר\,
  ליקוי חמה ייראה בשמי ישראל. תופעה נדירה 
 זו מתרחשת כאשר הירח\, במהלך סיבובו סביב כ
 דור הארץ\, מסתיר את אור השמש מאיתנו. הליק
 וי יחל ב-12:57 זמן ישראל\, יגיע לשיאו בשעה 14:
 11 כשיכסה כ-33% משטח השמש\, ויסתיים ב-15:21. בל
 יקוי הקרוב הירח לא יסתיר את כל פני השמש\, 
 אלא רק כשליש ממנה ולכן השמש עדיין תהיה ב
 הירה מאוד. איפה המקום הכי טוב לראות את הל
 יקוי בארץ? כל כמה זמן קורה ליקוי חמה\, והא
 ם הוא תמיד נראה משמי ישראל? האם ליקויי חמ
 ה קורים גם בכוכבי לכת אחרים? כל זאת ועוד 
 במופע ההכנה לאירוע האסטרונומי המיוחד של 
 השנה.
 לאחר המופע תתקיים תצפית טלסקופים -
  בכפוף לתנאי מזג האוויר.
 
 המופע מתאים ל
 גילאי 12+.
 
  
 המופע מועבר ע\"י נדב רוטנבר
 ג - יו\"ר האגודה הישראלית לאסטרונומיה.
 
 
 עלות:
 מחיר המופע - 35 ₪\, ברכישה מוקדמת - 25 
 ₪.
 הכניסה לחברי האגודה הישראלית לאסטרו
 נומיה - חינם\, בהרשמה מראש כאן.
 ההרשמה ל
 א מופיעה? התחברו כאן לחשבונכם כאן
 לקהל ה
 רחב: רכישת כרטיסים מראש כאן או בטלפון 09-9
 597330 (בשעות פעילות פלנתניה).
LOCATION:Sugihara 1\, Netanya\, Israel
DTSTART:20220913T170000Z
DTEND:20220913T180000Z
DTSTAMP:20210930T044140Z
ORGANIZER;CN=האגודה הישראלית לאסטרונומיה:MAILTO:ob
 servations@astronomy.org.il
GEO:32.314277;34.848561
X-APPLE-STRUCTURED-LOCATION;VALUE=URI;X-ADDRESS=Sugihara 1\, Netanya\, Isra
 el;X-APPLE-RADIUS=72;X-TITLE=פלנתניה:32.314277;34.848561
END:VEVENT
END:VCALENDAR