BEGIN:VCALENDAR
VERSION:2.0
PRODID:Events Booking
BEGIN:VEVENT
UID:69e9637e7279b
SUMMARY:מופע פלנטריום: שמי הסתיו המרהיבים
DESCRIPTION:תקציר:
 
 האם חיפשתם פעם קבוצת כוכב
 ים בעצמכם? 
 קבוצות כוכבים יכולות להיות ד
 רך לספר סיפור\, דרך למצוא את הכיוון ולפעמ
 ים סתם מראה רומנטי בשמיים. 
 לכל עונה יש 
 קבוצות כוכבים המאפיינות אותה\, ובפלנטריו
 ם רואים את קבוצות הכוכבים בכל מזג אוויר! 
 
 הרשו לנו לקחת אתכם למסע לקבוצות הכוכבים
  היפות ביותר בעונה זו ולספר לכם על האוביי
 קטים השמימיים המתחבאים בה.
 בסוף המסע תו
 כלו לזהות בעצמכם את הקבוצות וללמד את החב
 רים להתמצא בשמים. 
 המופע מתאים לגילאי 11+.
 
 
 
  
 המופע מועבר ע\"י נדב רוטנברג - יו\"
 ר האגודה הישראלית לאסטרונומיה.
 
 עלות:
 
 מחיר המופע - 35 ₪\, ברכישה מוקדמת - 25 ₪.
 הכ
 ניסה לחברי האגודה הישראלית לאסטרונומיה: 
 חינם\, בהרשמה מראש כאן.
 ההרשמה לא מופיעה
 ? התחברו כאן לחשבונכם כאן
 לקהל הרחב: רכי
 שת כרטיסים מראש באתר הפלנתניה או בטלפון 
 09-9597330 (בשעות פעילות פלנתניה).
DTSTART:20230920T170000Z
DTEND:20230920T180000Z
DTSTAMP:20210930T044140Z
ORGANIZER;CN=האגודה הישראלית לאסטרונומיה:MAILTO:ob
 servations@astronomy.org.il
END:VEVENT
END:VCALENDAR