BEGIN:VCALENDAR
VERSION:2.0
PRODID:Events Booking
BEGIN:VEVENT
UID:69eb738847ec1
SUMMARY:יציאה מחיפה - תצפית שטח במטר הפרסאידי
 ם 12/8/2021
DESCRIPTION:אזלו המקומות!
   זוהי הרשמה לתצפית 
 הפרסאידים ליוצאים מחיפה בלבד!   
 כבכל שנ
 ה\, גם השנה יתרחש שיא מטר המטאורים הפרסאי
 דים ב-12/8. אתם מוזמנים להצטרף לצוות חטיבת 
 המטאורים של האגודה\, לצפות במטר\, לתעד אות
 ו ולשלוח את הנתונים לארגון המטאורים הבינ
 לאומי IMO. 
  
 לאור העלייה ברמת התחלואה ו
 הוספת הגבלות הממשלה\, כל משתתפי התצפית מח
 וייבים להציג תעודת מתחסן / תו ירוק / תוצאו
 ת בדיקת קורונה\, התקפה עד 72 שעות ממועד התצ
 פית. הצגת אישור כנ\"ל בעלייה לאוטובוס.
 מ
 שתתף המעוניין לבטל את השתתפותו בתצפית לא
 ור האמור לעיל\, יוכל לבטלה עם זיכוי מלא עד
  יום שישי 6/8/21. 
 המבטלים נדרשים להודיע במ
 ייל חוזר או לבטל מיידית השתתפותם באתר הא
 גודה.
  
  
 מטאור? מטר מטאורים? מה זה בכל
 ל?
 מטאור הוא חלקיק קטנטן הפוגע בכדור האר
 ץ ובשל מהירותו יוצר שובל אור הניתן לצפיי
 ה בעין. לעתים כדור הארץ עובר דרך שובל של ש
 ביט עתיק\, וכתוצאה מכך\, נראים מטאורים רבי
 ם מאוד\, בתופעה המכונה \"מטר מטאורים\". מטר
  הפרסאידים הוא אחד משני מטרות המטאורים ה
 חזקים של השנה.
  
 על התצפית
 אתם מוזמנים
  להצטרף לצוות חטיבת המטאורים ולתעד את מט
 ר המטאורים. אנו רושמים כל מטאור שנצפה\, מע
 בדים את הנתונים\, ושולחים אותם לארגון המט
 אורים הבינ\"ל (IMO) לשם יצירת תמונה כלל עולמ
 ית של קצב המטאורים. דרושות תצפיות ממקומו
 ת רבים ברחבי העולם על מנת לשפר את רזולוצי
 ית המדידה. חטיבת המטאורים הישראלית\, שהיא
  הקבוצה הגדולה ביותר במזרח התיכון\, שולחת
  מדי שנה תיעודים רבים ומפורטים\, וזוכה לה
 ערכה רבה בארגון המטאורים הבינ\"ל. 
 בניגו
 ד לאירועי תצפית אחרים המתקיימים ברחבי הא
 רץ\, ההקפדה על משמעת חושך במהלך התצפית הי
 א מירבית\, כדי לאפשר תצפית מהנה גם במטאור
 ים חיוורים. לפיכך\, לא ניתן יהיה להדליק מד
 ורות\, מנגלים\, וכד'. יש להישמע להוראות הצו
 ות לגבי כיסוי פנסים ומכשירים אחרים הפולט
 ים אור\, וכל זאת משום שההתמקדות בצפייה במ
 טר בצורה מקצועית מאפשרת להבחין לאורך הלי
 לה בכמות גדולה בהרבה של מטאורים מאשר בתצ
 פית \"רגילה\".
 לא נדרש ניסיון תצפיתי קודם 
 או ניסיון בתצפיות מטאורים על מנת להשתתף. 
 עם זאת\, בשל אופי התצפית\, היא אינה מתאימה 
 לילדים מתחת לגיל 10\, אפילו בליווי הורים.
 
  
 מה יצא לי מזה?
 מלבד הצפייה במטר המרהי
 ב בתנאים המתאימים ביותר\, התוצאות שתאסוף 
 הקבוצה יישלחו לניתוח. 
 שמכם יופיע כחלק 
 מהתצפיתנים אשר תרמו את התוצאות לתצפית במ
 טר ב IMO וכן תזכו לחוויה ייחודית\, אשר בסופ
 ה כנראה תרצו לחזור ולצפות במטרות מטאורים
  נוספים המתרחשים כל השנה\, כחלק מפעילותה 
 השוטפת של חטיבת המטאורים.
  
 ליל התצפית 
 - לוח זמנים מתוכנן
 נצא לתצפית בהסעה מאור
 גנת מהתחנות:
 - 15:00 - יציאה מחיפה - היכל הס
 פורט רוממה - חניון מערבי (לנקודה במפת גוג
 ל)
 - 19:30 הגעה משוערת לשטח
 - 04:30 התקפלות
 - 
 09:30 הגעה משוערת לחיפה
  
 מחיר השתתפות ל
 יחיד
 מחיר לחברי אגודה שחברותם בתוקף: 120 
 ש\"ח (כולל בני משפחה מדרגה ראשונה: בן/בת זו
 ג וילדים)
 מחיר לקהל הרחב: 170 ש\"ח * עדיין 
 לא חברים באגודה? מוזמנים להצטרף *
 על מנת
  לקבל את ההנחה לחברי האגודה - יש להתחבר ל
 אתר האגודה עם שם משתמש וסיסמא.
 התשלום לכ
 יסוי הוצאות הנסיעה בלבד\, כלל הפעילות באג
 ודה מתבצעת בהתנדבות.
 דמי ביטול (ייגבו ב
 כל מקרה בגין עלות האוטובוס): 
 למבטלים הש
 תתפותם החל משבועיים לפני התצפית - 50%
 למב
 טלים השתתפותם החל משבוע לפני התצפית - 100%

   
 הרשמה ותשלום
 שימו לב!
 עקב ריבוי הנר
 שמים והרשמה ברגע האחרון\, נוצר מצב שנרשמי
 ם רבים נותרים ברשימת המתנה ומפסידים את ה
 חוויה. אנא הירשמו בזמן.
 התשלום לתצפית מת
 בצע ב-PayPal בלבד - לא יתאפשר תשלום במזומן.
 
 בעת המעבר ל PayPal ניתן לשלם בעזרת חשבון PayPal
  או ללא חשבון - בכרטיס אשראי (יש לבחור אופ
 ציה זו במסך התשלום).
  
DTSTART:20210812T120000Z
DTEND:20210813T063000Z
DTSTAMP:20260424T134336Z
ORGANIZER;CN=האגודה הישראלית לאסטרונומיה:MAILTO:ob
 servations@astronomy.org.il
END:VEVENT
END:VCALENDAR