BEGIN:VCALENDAR
VERSION:2.0
PRODID:Events Booking
BEGIN:VEVENT
UID:69e77fbce59f5
SUMMARY:הכנס ה-73 של האגודה הישראלית לאסטרונו
 מיה
DESCRIPTION: מוזמנים לכנס חווייתי עם מפגש חברי
 ם מרגש\, שלוש הרצאות מרתקות ומיצגי פלנטרי
 ום מרהיבים.
 כנס האגודה השנתי ייערך השנה 
 ביום שישי ה-04/04 בפלנתניה - פלנטריום נתניה.
 
 מוזמנים לכנס חווייתי עם מפגש חברים מרג
 ש\, שלוש הרצאות מרתקות ומיצגי פלנטריום מר
 היבים. הכנס ייערך בפלנתניה - פלנטריום נת
 ניה - רח' סוגיהארה 1 נתניה. החניה חופשית ב
 מקום.
 מספר המקומות מוגבל - מהרו להירשם ו
 להבטיח את מקומכם.
  
  
LOCATION:Sugihara 1\, Netanya\, Israel
DTSTART:20250404T053000Z
DTEND:20250404T110000Z
DTSTAMP:20240209T110847Z
ORGANIZER;CN=האגודה הישראלית לאסטרונומיה:MAILTO:ob
 servations@astronomy.org.il
GEO:32.314277;34.848561
X-APPLE-STRUCTURED-LOCATION;VALUE=URI;X-ADDRESS=Sugihara 1\, Netanya\, Isra
 el;X-APPLE-RADIUS=72;X-TITLE=פלנתניה:32.314277;34.848561
END:VEVENT
END:VCALENDAR