BEGIN:VCALENDAR
VERSION:2.0
PRODID:Events Booking
BEGIN:VEVENT
UID:69ea23918a6e8
SUMMARY:טלסקופ החלל ג'יימס ווב: התמונות הראשו
 נות והתגליות הצפויות
DESCRIPTION:טלסקופ החלל JWST (ג'יימס ווב\, מכונה ב
 פי החוקרים גם Just Wonderful Space Telescope) שוגר בשנה
  שעברה לחלל ולאחרונה פורסמו כמה מבין תמו
 נותיו המדהימות הראשונות. 
 ההרצאה תעסוק 
 בתמונות הללו ובעיקר בתגליות שעוד עתידות 
 להגיע מהטלסקופ הנפלא: 
 כיצד טלסקופ החלל
  מותאם היטב לגילוי הגלקסיות הראשונות שנמ
 צאות במרחק עצום מאיתנו\, ובמקביל יכול גם 
 לאפיין אטמוספירות של כוכבי לכת במערכות ש
 מש אחרות בגלקסיה שלנו? 
 אילו אספקטים טכ
 נולוגיים של טלסקופ החלל מאפשרים לא לצפות
  במה שאף טלסקופ לא צפה בו לפני כן? 
 על כך 
 ועוד בהרצאתו של פרופ' אהוד בכר. 
  
 המרצ
 ה: פרופ' אהוד בכר\, הפקולטה לפיסיקה\, הטכני
 ון. 
  
LOCATION:Ha-Meri Street 66\, Givatayim\, Israel
DTSTART:20221201T193000Z
DTEND:20221201T203000Z
DTSTAMP:20221103T215712Z
ORGANIZER;CN=האגודה הישראלית לאסטרונומיה:MAILTO:ob
 servations@astronomy.org.il
GEO:32.070509;34.815134
X-APPLE-STRUCTURED-LOCATION;VALUE=URI;X-ADDRESS=Ha-Meri Street 66\, Givatay
 im\, Israel;X-APPLE-RADIUS=72;X-TITLE=מצפה הכוכבים גבעתיי
 ם:32.070509;34.815134
END:VEVENT
END:VCALENDAR