BEGIN:VCALENDAR
VERSION:2.0
PRODID:Events Booking
BEGIN:VEVENT
UID:69ead5ffdb2d2
SUMMARY:פעילות פורים לילדים במצפה הכוכבים
DESCRIPTION:לחצו כאן להרשמה לפעילות
  
 
  
 ל
 הרשמה לחצו כאן
DTSTART:20220314T160000Z
DTEND:20220314T170000Z
DTSTAMP:20220310T175156Z
ORGANIZER;CN=האגודה הישראלית לאסטרונומיה:MAILTO:ob
 servations@astronomy.org.il
END:VEVENT
END:VCALENDAR