BEGIN:VCALENDAR
VERSION:2.0
PRODID:Events Booking
BEGIN:VEVENT
UID:69e7c07a940a1
SUMMARY:03/01 - תצפית שטח בהגעה עצמאית
DESCRIPTION: 
 בתאריך 3/1/2025 תקיים האגודה תצפית 
 בערבה
 בהשתתפות רכבים פרטיים.התצפית תתק
 יים בשטח פתוח.המעוניינים להשתתף מתבקשים 
 להירשם\, רצוי לציין מספר משתתפים.עלות ההש
 תתפות 10 ש\"ח לרכב.פרטים מדוייקים על נקודת 
 מפגש הרכבים  בדרום יועברו סמוך למועד התצ
 פית. נקודת המפגש הצפויה הינה בתחנת הדלק ע
 ין יהב על כביש 90. ההשתתפות בתצפית מחייבת 
 יציאה מהשטח בזמן סיום התצפית ולא לפני כן 
 כדי למנוע הפרעות למתצפתים. 
DTSTART:20250103T150000Z
DTEND:20250104T010000Z
DTSTAMP:20241225T184304Z
ORGANIZER;CN=האגודה הישראלית לאסטרונומיה:MAILTO:ob
 servations@astronomy.org.il
END:VEVENT
END:VCALENDAR